BEGIN:VCALENDAR
VERSION:2.0
CALSCALE:GREGORIAN
PRODID:-//Diputació de Barcelona//DibaCMS//EN
BEGIN:VEVENT
UID:4494
DTSTAMP:20260423T181835
DTSTART:20220310T080000
DTEND:20220310T080000
SUMMARY:Passejada de la gent gran a Prats de Lluçanès
LOCATION:c. Sant Pere, 152 08370 Calella
METHOD:PUBLISH
X-WR-CALNAME:calella@calella.cat
X-WR-TIMEZONE:Europe/Madrid
DESCRIPTION:dins del Cicle de passejades de la DIBA

URI:https://www.calella.cat/actualitat/agenda/passejada-de-la-gent-gran-a-prats-de-llucanes.html
CLASS:PUBLIC
END:VEVENT
END:VCALENDAR
