BEGIN:VCALENDAR
VERSION:2.0
CALSCALE:GREGORIAN
PRODID:-//Diputació de Barcelona//DibaCMS//EN
BEGIN:VEVENT
UID:4493
DTSTAMP:20260423T181337
DTSTART:20220309T183000
DTEND:20220309T183000
SUMMARY:Conferència “Ciceró: Oratòria i filosofia al servei de la política”
LOCATION:Plaça de l'Ajuntament, 31 08370 Calella
METHOD:PUBLISH
X-WR-CALNAME:calella@calella.cat
X-WR-TIMEZONE:Europe/Madrid
DESCRIPTION:A càrrec del Dr. Joan Manuel del Pozo, professor de Filosofia Antiga, Filosofia Política i Ètica de la Comunicació a la Universitat de Girona.

URI:https://www.calella.cat/actualitat/agenda/conferencia-cicero-oratoria-i-filosofia-al-servei-de-la-politica.html
CLASS:PUBLIC
END:VEVENT
END:VCALENDAR
