BEGIN:VCALENDAR
VERSION:2.0
CALSCALE:GREGORIAN
PRODID:-//Diputació de Barcelona//DibaCMS//EN
BEGIN:VEVENT
UID:4492
DTSTAMP:20260423T225459
DTSTART:20220309T180000
DTEND:20220309T180000
SUMMARY:Activitat familiar “I això qui ho ha dit?”
LOCATION:Plaça de l'Ajuntament, 31 08370 Calella
METHOD:PUBLISH
X-WR-CALNAME:calella@calella.cat
X-WR-TIMEZONE:Europe/Madrid
DESCRIPTION:a càrrec de Sandra Rossi.

URI:https://www.calella.cat/actualitat/agenda/activitat-familiar-i-aixo-qui-ho-ha-dit.html
CLASS:PUBLIC
END:VEVENT
END:VCALENDAR
