BEGIN:VCALENDAR
VERSION:2.0
CALSCALE:GREGORIAN
PRODID:-//Diputació de Barcelona//DibaCMS//EN
BEGIN:VEVENT
UID:4489
DTSTAMP:20260424T023314
DTSTART:20220308T180000
DTEND:20220308T180000
SUMMARY:Taller teatral “Amors quotidians. Desmitificació de l'amor romàntic i noves masculinitats”
LOCATION:c. Sant Jaume, 225-229 08370 Calella
METHOD:PUBLISH
X-WR-CALNAME:calella@calella.cat
X-WR-TIMEZONE:Europe/Madrid
DESCRIPTION:amb motiu del Dia Internacional de les Dones.

URI:https://www.calella.cat/actualitat/agenda/taller-teatral-amors-quotidians-desmitificacio-de-lamor-romantic-i-noves-masculinitats.html
CLASS:PUBLIC
END:VEVENT
END:VCALENDAR
