BEGIN:VCALENDAR
VERSION:2.0
CALSCALE:GREGORIAN
PRODID:-//Diputació de Barcelona//DibaCMS//EN
BEGIN:VEVENT
UID:4487
DTSTAMP:20260423T135119
DTSTART:20220307T190000
DTEND:20220307T190000
SUMMARY:Jornada de portes obertes de l'ESO de l’Institut Bisbe Sivilla
LOCATION:c. Valldebanador, 39 08370 Calella
METHOD:PUBLISH
X-WR-CALNAME:calella@calella.cat
X-WR-TIMEZONE:Europe/Madrid
DESCRIPTION:A les 19.00 h, xerrada telemàtica i possibilitat de visites en grup de 10 persones, prèvia inscripció.

URI:https://www.calella.cat/actualitat/agenda/jornada-de-portes-obertes-de-leso-de-linstitut-bisbe-sivilla.html
CLASS:PUBLIC
END:VEVENT
END:VCALENDAR
