BEGIN:VCALENDAR
VERSION:2.0
CALSCALE:GREGORIAN
PRODID:-//Diputació de Barcelona//DibaCMS//EN
BEGIN:VEVENT
UID:4486
DTSTAMP:20260423T110923
DTSTART:20220307T183000
DTEND:20220307T183000
SUMMARY:Club de lectura Llibre obert
LOCATION:Plaça de l'Ajuntament, 31 08370 Calella
METHOD:PUBLISH
X-WR-CALNAME:calella@calella.cat
X-WR-TIMEZONE:Europe/Madrid
DESCRIPTION:amb Cançó de la plana, de Kent Haruf.

URI:https://www.calella.cat/actualitat/agenda/4486-club-de-lectura-llibre-obert.html
CLASS:PUBLIC
END:VEVENT
END:VCALENDAR
