BEGIN:VCALENDAR
VERSION:2.0
CALSCALE:GREGORIAN
PRODID:-//Diputació de Barcelona//DibaCMS//EN
BEGIN:VEVENT
UID:4485
DTSTAMP:20260423T114155
DTSTART:20220307T180000
DTEND:20220307T180000
SUMMARY:Assemblea #CalellaJoveParticipa
LOCATION:c. Sant Jaume, 225-229 08370 Calella
METHOD:PUBLISH
X-WR-CALNAME:calella@calella.cat
X-WR-TIMEZONE:Europe/Madrid
DESCRIPTION:
URI:https://www.calella.cat/actualitat/agenda/4485-assemblea-calellajoveparticipa.html
CLASS:PUBLIC
END:VEVENT
END:VCALENDAR
