BEGIN:VCALENDAR
VERSION:2.0
CALSCALE:GREGORIAN
PRODID:-//Diputació de Barcelona//DibaCMS//EN
BEGIN:VEVENT
UID:4481
DTSTAMP:20260423T123005
DTSTART:20220306T180000
DTEND:20220306T180000
SUMMARY:Cicle Cultural - Teatre Familiar
LOCATION:c. Sant Pere, 152 08370 Calella
METHOD:PUBLISH
X-WR-CALNAME:calella@calella.cat
X-WR-TIMEZONE:Europe/Madrid
DESCRIPTION:amb "Tripula", de Farrés Brothers i Cia. (teatre en un qlobus aerostàtic-català)

URI:https://www.calella.cat/actualitat/agenda/4481-cicle-cultural-teatre-familiar.html
CLASS:PUBLIC
END:VEVENT
END:VCALENDAR
