BEGIN:VCALENDAR
VERSION:2.0
CALSCALE:GREGORIAN
PRODID:-//Diputació de Barcelona//DibaCMS//EN
BEGIN:VEVENT
UID:4480
DTSTAMP:20260423T181617
DTSTART:20220306T093000
DTEND:20220306T133000
SUMMARY:Jornada de portes obertes d'Educació Infantil, Primària, Secundària i Batxillerat de l’Escola Pia “Tasta I’escoIa"
LOCATION:c. Jovara, 39 08370 Calella
METHOD:PUBLISH
X-WR-CALNAME:calella@calella.cat
X-WR-TIMEZONE:Europe/Madrid
DESCRIPTION:Vine a les nostres Portes Obertes i descobreix-nos. Organitza: Escola Pia. Educació Infantil i Primària (c. Sant Pere 20). ESO i BatxiIlerats (c. Jovara, 39).

URI:https://www.calella.cat/actualitat/agenda/jornada-de-portes-obertes-deducacio-infantil-primaria-secundaria-i-batxillerat-de-lescola-pia-tasta-iescoia.html
CLASS:PUBLIC
END:VEVENT
END:VCALENDAR
