BEGIN:VCALENDAR
VERSION:2.0
CALSCALE:GREGORIAN
PRODID:-//Diputació de Barcelona//DibaCMS//EN
BEGIN:VEVENT
UID:4479
DTSTAMP:20260423T104709
DTSTART:20220306T093000
DTEND:20220306T133000
SUMMARY:Jornada de portes obertes d'Educació Infantil i Primària de l'Escola El Far
LOCATION:c. Sant Pere, 142-150 08370 Calella
METHOD:PUBLISH
X-WR-CALNAME:calella@calella.cat
X-WR-TIMEZONE:Europe/Madrid
DESCRIPTION:Es realitzaran xerrades informatives concertades i visites quiades pel centre en grups de 10 persones

URI:https://www.calella.cat/actualitat/agenda/jornada-de-portes-obertes-deducacio-infantil-i-primaria-de-lescola-el-far.html
CLASS:PUBLIC
END:VEVENT
END:VCALENDAR
