BEGIN:VCALENDAR
VERSION:2.0
CALSCALE:GREGORIAN
PRODID:-//Diputació de Barcelona//DibaCMS//EN
BEGIN:VEVENT
UID:4455
DTSTAMP:20260423T071933
DTSTART:20220303T160000
DTEND:20220303T190000
SUMMARY:Jornada d’acompanyament tècnic de digitalització del sector de la restauració i alimentació
LOCATION:c. Sant Jaume, 225-229 08370 Calella
METHOD:PUBLISH
X-WR-CALNAME:calella@calella.cat
X-WR-TIMEZONE:Europe/Madrid
DESCRIPTION:
	Dates: 1, 3 i 8 de març en horari de tarda (de 16 a 19 h)
	Modalitat: formació híbrida (presencial i amb possibilitat de connexió online)


URI:https://www.calella.cat/actualitat/agenda/4455-jornada-dacompanyament-tecnic-de-digitalitzacio-del-sector-de-la-restauracio-i-alimentacio.html
CLASS:PUBLIC
END:VEVENT
END:VCALENDAR
