BEGIN:VCALENDAR
VERSION:2.0
CALSCALE:GREGORIAN
PRODID:-//Diputació de Barcelona//DibaCMS//EN
BEGIN:VEVENT
UID:4449
DTSTAMP:20260423T164254
DTSTART:20220227T110000
DTEND:20220327T000000
SUMMARY:Exposició "Calella és Solidària"
LOCATION:Plaça de l'Ajuntament, 1-4 08370 Calella
METHOD:PUBLISH
X-WR-CALNAME:calella@calella.cat
X-WR-TIMEZONE:Europe/Madrid
DESCRIPTION:Inauguració el 27 de febrer, a les 11.00 h.

URI:https://www.calella.cat/actualitat/agenda/exposicio-calella-es-solidaria.html
CLASS:PUBLIC
END:VEVENT
END:VCALENDAR
