BEGIN:VCALENDAR
VERSION:2.0
CALSCALE:GREGORIAN
PRODID:-//Diputació de Barcelona//DibaCMS//EN
BEGIN:VEVENT
UID:4435
DTSTAMP:20260424T051847
DTSTART:20220217T180000
DTEND:20220217T180000
SUMMARY:Anem al Museu del Turisme
LOCATION:c. Sant Jaume, 225-229 08370 Calella
METHOD:PUBLISH
X-WR-CALNAME:calella@calella.cat
X-WR-TIMEZONE:Europe/Madrid
DESCRIPTION:A visitar l’exposició “Què mengem avui?”.

URI:https://www.calella.cat/actualitat/agenda/anem-al-museu-del-turisme.html
CLASS:PUBLIC
END:VEVENT
END:VCALENDAR
