BEGIN:VCALENDAR
VERSION:2.0
CALSCALE:GREGORIAN
PRODID:-//Diputació de Barcelona//DibaCMS//EN
BEGIN:VEVENT
UID:3984
DTSTAMP:20260423T102919
DTSTART:20220204T170000
DTEND:20220424T200000
SUMMARY:Exposició itinerant “Què mengem avui?”
LOCATION:c. Sant Pere, 122-140 08370 Calella
METHOD:PUBLISH
X-WR-CALNAME:calella@calella.cat
X-WR-TIMEZONE:Europe/Madrid
DESCRIPTION:Una exposició de l'Ada Parellada i l'Agnès Villamajor

URI:https://www.calella.cat/actualitat/agenda/exposicio-itinerant-que-mengem-avui.html
CLASS:PUBLIC
END:VEVENT
END:VCALENDAR
