BEGIN:VCALENDAR
VERSION:2.0
CALSCALE:GREGORIAN
PRODID:-//Diputació de Barcelona//DibaCMS//EN
BEGIN:VEVENT
UID:3978
DTSTAMP:20260424T035108
DTSTART:20220227T130000
DTEND:20220227T130000
SUMMARY:Inauguració de l’exposició “Calella és solidària”
LOCATION:Plaça de l'Ajuntament, 1-3 08370 Calella
METHOD:PUBLISH
X-WR-CALNAME:calella@calella.cat
X-WR-TIMEZONE:Europe/Madrid
DESCRIPTION:Es podrà visitar fins al 20 de març

URI:https://www.calella.cat/actualitat/agenda/inauguracio-de-lexposicio-calella-es-solidaria.html
CLASS:PUBLIC
END:VEVENT
END:VCALENDAR
