BEGIN:VCALENDAR
VERSION:2.0
CALSCALE:GREGORIAN
PRODID:-//Diputació de Barcelona//DibaCMS//EN
BEGIN:VEVENT
UID:3977
DTSTAMP:20260423T164331
DTSTART:20220226T170000
DTEND:20220226T170000
SUMMARY:Rua infantil
LOCATION:Plaça de l'Ajuntament 08370 Calella
METHOD:PUBLISH
X-WR-CALNAME:calella@calella.cat
X-WR-TIMEZONE:Europe/Madrid
DESCRIPTION:A la plaça de l’Ajuntament, pregó d’en Carnestoltes.

URI:https://www.calella.cat/actualitat/agenda/rua-infantil.html
CLASS:PUBLIC
END:VEVENT
END:VCALENDAR
