BEGIN:VCALENDAR
VERSION:2.0
CALSCALE:GREGORIAN
PRODID:-//Diputació de Barcelona//DibaCMS//EN
BEGIN:VEVENT
UID:3976
DTSTAMP:20260423T162620
DTSTART:20220226T120000
DTEND:20220226T120000
SUMMARY:Activitat familiar
LOCATION:Plaça de l'Ajuntament, 31 08370 Calella
METHOD:PUBLISH
X-WR-CALNAME:calella@calella.cat
X-WR-TIMEZONE:Europe/Madrid
DESCRIPTION:Amb El petit científic malvat.

URI:https://www.calella.cat/actualitat/agenda/activitat-familiar.html
CLASS:PUBLIC
END:VEVENT
END:VCALENDAR
