BEGIN:VCALENDAR
VERSION:2.0
CALSCALE:GREGORIAN
PRODID:-//Diputació de Barcelona//DibaCMS//EN
BEGIN:VEVENT
UID:3973
DTSTAMP:20260423T195020
DTSTART:20220225T183000
DTEND:20220225T183000
SUMMARY:“Maria Callas, entre la dona i la llegenda”
LOCATION:c. Sant Jaume, 225-229 08370 Calella
METHOD:PUBLISH
X-WR-CALNAME:calella@calella.cat
X-WR-TIMEZONE:Europe/Madrid
DESCRIPTION:a càrrec de Rosa Maria Carbonell.

URI:https://www.calella.cat/actualitat/agenda/maria-callas-entre-la-dona-i-la-llegenda.html
CLASS:PUBLIC
END:VEVENT
END:VCALENDAR
