BEGIN:VCALENDAR
VERSION:2.0
CALSCALE:GREGORIAN
PRODID:-//Diputació de Barcelona//DibaCMS//EN
BEGIN:VEVENT
UID:3970
DTSTAMP:20260423T072116
DTSTART:20220224T210000
DTEND:20220224T210000
SUMMARY:Cinema Cicle Gaudí
LOCATION:c. Sant Jaume, 225-229 08370 Calella
METHOD:PUBLISH
X-WR-CALNAME:calella@calella.cat
X-WR-TIMEZONE:Europe/Madrid
DESCRIPTION:amb Las leyes de la frontera

URI:https://www.calella.cat/actualitat/agenda/cinema-cicle-gaudi.html
CLASS:PUBLIC
END:VEVENT
END:VCALENDAR
