BEGIN:VCALENDAR
VERSION:2.0
CALSCALE:GREGORIAN
PRODID:-//Diputació de Barcelona//DibaCMS//EN
BEGIN:VEVENT
UID:3969
DTSTAMP:20260423T164402
DTSTART:20220224T180000
DTEND:20220224T180000
SUMMARY:Ball de Carnaval de la gent gran
LOCATION:c. Sant Pere, 152 08370 Calella
METHOD:PUBLISH
X-WR-CALNAME:calella@calella.cat
X-WR-TIMEZONE:Europe/Madrid
DESCRIPTION:
URI:https://www.calella.cat/actualitat/agenda/ball-de-carnaval-de-la-gent-gran.html
CLASS:PUBLIC
END:VEVENT
END:VCALENDAR
