BEGIN:VCALENDAR
VERSION:2.0
CALSCALE:GREGORIAN
PRODID:-//Diputació de Barcelona//DibaCMS//EN
BEGIN:VEVENT
UID:3968
DTSTAMP:20260423T115759
DTSTART:20220224T173000
DTEND:20220224T173000
SUMMARY:Dijous llarder
LOCATION:Plaça de l'Església 08370 Calella
METHOD:PUBLISH
X-WR-CALNAME:calella@calella.cat
X-WR-TIMEZONE:Europe/Madrid
DESCRIPTION:Amb l’espectacle Recontes, titelles amb cançons infantils

URI:https://www.calella.cat/actualitat/agenda/dijous-llarder.html
CLASS:PUBLIC
END:VEVENT
END:VCALENDAR
