BEGIN:VCALENDAR
VERSION:2.0
CALSCALE:GREGORIAN
PRODID:-//Diputació de Barcelona//DibaCMS//EN
BEGIN:VEVENT
UID:3966
DTSTAMP:20260423T102758
DTSTART:20220224T070000
DTEND:20220224T070000
SUMMARY:Rutes pels voltants de Calella
LOCATION:Passeig Marítim (davant estació RENFE) 08370 Calella
METHOD:PUBLISH
X-WR-CALNAME:calella@calella.cat
X-WR-TIMEZONE:Europe/Madrid
DESCRIPTION:
URI:https://www.calella.cat/actualitat/agenda/3966-rutes-pels-voltants-de-calella.html
CLASS:PUBLIC
END:VEVENT
END:VCALENDAR
