BEGIN:VCALENDAR
VERSION:2.0
CALSCALE:GREGORIAN
PRODID:-//Diputació de Barcelona//DibaCMS//EN
BEGIN:VEVENT
UID:3951
DTSTAMP:20260423T074135
DTSTART:20220223T183000
DTEND:20220223T183000
SUMMARY:Conferència-debat “El futur d’Europa amb una mirada jove: pensem, compartim i decidim”
LOCATION:Plaça de l'Ajuntament, 31 08370 Calella
METHOD:PUBLISH
X-WR-CALNAME:calella@calella.cat
X-WR-TIMEZONE:Europe/Madrid
DESCRIPTION:
URI:https://www.calella.cat/actualitat/agenda/3951-conferencia-debat-el-futur-deuropa-amb-una-mirada-jove-pensem-compartim-i-decidim.html
CLASS:PUBLIC
END:VEVENT
END:VCALENDAR
