BEGIN:VCALENDAR
VERSION:2.0
CALSCALE:GREGORIAN
PRODID:-//Diputació de Barcelona//DibaCMS//EN
BEGIN:VEVENT
UID:3950
DTSTAMP:20260423T145908
DTSTART:20220223T183000
DTEND:20220223T183000
SUMMARY:Conferència “El poder al món post Covid-19”
LOCATION:c. Sant Jaume, 225-229 08370 Calella
METHOD:PUBLISH
X-WR-CALNAME:calella@calella.cat
X-WR-TIMEZONE:Europe/Madrid
DESCRIPTION:A càrrec del Sr. Vicens Lozano, periodista i escriptor. Redactor d’Internacional de TV3.

URI:https://www.calella.cat/actualitat/agenda/conferencia-el-poder-al-mon-post-covid-19.html
CLASS:PUBLIC
END:VEVENT
END:VCALENDAR
