BEGIN:VCALENDAR
VERSION:2.0
CALSCALE:GREGORIAN
PRODID:-//Diputació de Barcelona//DibaCMS//EN
BEGIN:VEVENT
UID:3945
DTSTAMP:20260423T102742
DTSTART:20220221T093000
DTEND:20220221T110000
SUMMARY:Taitxí
LOCATION:Parc Dalmau 08370 Calella
METHOD:PUBLISH
X-WR-CALNAME:calella@calella.cat
X-WR-TIMEZONE:Europe/Madrid
DESCRIPTION:
URI:https://www.calella.cat/actualitat/agenda/3945-taitxi.html
CLASS:PUBLIC
END:VEVENT
END:VCALENDAR
