BEGIN:VCALENDAR
VERSION:2.0
CALSCALE:GREGORIAN
PRODID:-//Diputació de Barcelona//DibaCMS//EN
BEGIN:VEVENT
UID:3941
DTSTAMP:20260423T151149
DTSTART:20220218T220000
DTEND:20220218T220000
SUMMARY:23è. Cafè Jazz a Calella
LOCATION:c. Església, 91 08370 Calella
METHOD:PUBLISH
X-WR-CALNAME:calella@calella.cat
X-WR-TIMEZONE:Europe/Madrid
DESCRIPTION:Concert amb Xavier Casellas (veu), Dick Them (contrabaix) i Jaume Vilaseca (piano).

URI:https://www.calella.cat/actualitat/agenda/3941-23e-cafe-jazz-a-calella.html
CLASS:PUBLIC
END:VEVENT
END:VCALENDAR
