BEGIN:VCALENDAR
VERSION:2.0
CALSCALE:GREGORIAN
PRODID:-//Diputació de Barcelona//DibaCMS//EN
BEGIN:VEVENT
UID:3940
DTSTAMP:20260423T123936
DTSTART:20220217T210000
DTEND:20220217T210000
SUMMARY:Cineclub
LOCATION:c. Sant Jaume, 225-229 08370 Calella
METHOD:PUBLISH
X-WR-CALNAME:calella@calella.cat
X-WR-TIMEZONE:Europe/Madrid
DESCRIPTION:Pel·lícula Titane

URI:https://www.calella.cat/actualitat/agenda/cineclub.html
CLASS:PUBLIC
END:VEVENT
END:VCALENDAR
