BEGIN:VCALENDAR
VERSION:2.0
CALSCALE:GREGORIAN
PRODID:-//Diputació de Barcelona//DibaCMS//EN
BEGIN:VEVENT
UID:3938
DTSTAMP:20260424T020124
DTSTART:20220216T093000
DTEND:20220216T110000
SUMMARY:Passejades
LOCATION:Parc Dalmau 08370 Calella
METHOD:PUBLISH
X-WR-CALNAME:calella@calella.cat
X-WR-TIMEZONE:Europe/Madrid
DESCRIPTION:
URI:https://www.calella.cat/actualitat/agenda/3938-passejades.html
CLASS:PUBLIC
END:VEVENT
END:VCALENDAR
