BEGIN:VCALENDAR
VERSION:2.0
CALSCALE:GREGORIAN
PRODID:-//Diputació de Barcelona//DibaCMS//EN
BEGIN:VEVENT
UID:3936
DTSTAMP:20260423T123531
DTSTART:20220215T100000
DTEND:20220215T130000
SUMMARY:Passejada de la gent gran a Calella
LOCATION:c. Sant Pere, 152 08370 Calella
METHOD:PUBLISH
X-WR-CALNAME:calella@calella.cat
X-WR-TIMEZONE:Europe/Madrid
DESCRIPTION:dins del Cicle de passejades de la DIBA

URI:https://www.calella.cat/actualitat/agenda/passejada-de-la-gent-gran-a-calella.html
CLASS:PUBLIC
END:VEVENT
END:VCALENDAR
