BEGIN:VCALENDAR
VERSION:2.0
CALSCALE:GREGORIAN
PRODID:-//Diputació de Barcelona//DibaCMS//EN
BEGIN:VEVENT
UID:3934
DTSTAMP:20260423T181157
DTSTART:20220214T180000
DTEND:20220214T180000
SUMMARY:“Sincronitza’t”, grup de conversa entre joves
LOCATION:c. Sant Jaume, 225-229 08370 Calella
METHOD:PUBLISH
X-WR-CALNAME:calella@calella.cat
X-WR-TIMEZONE:Europe/Madrid
DESCRIPTION:
URI:https://www.calella.cat/actualitat/agenda/3934-sincronitzat-grup-de-conversa-entre-joves.html
CLASS:PUBLIC
END:VEVENT
END:VCALENDAR
