BEGIN:VCALENDAR
VERSION:2.0
CALSCALE:GREGORIAN
PRODID:-//Diputació de Barcelona//DibaCMS//EN
BEGIN:VEVENT
UID:3932
DTSTAMP:20260423T135343
DTSTART:20220213T183000
DTEND:20220213T183000
SUMMARY:48è. Concurs de Teatre Amateur premi Ciutat de Calella
LOCATION:c. Església, 249-251 08370 Calella
METHOD:PUBLISH
X-WR-CALNAME:calella@calella.cat
X-WR-TIMEZONE:Europe/Madrid
DESCRIPTION:amb l’obra "La zapatera prodigiosa", a càrrec d’Elenc Dramàtic del Centre Catòlic (Sant Vicenç dels Horts)

URI:https://www.calella.cat/actualitat/agenda/3932-48e-concurs-de-teatre-amateur-premi-ciutat-de-calella.html
CLASS:PUBLIC
END:VEVENT
END:VCALENDAR
