BEGIN:VCALENDAR
VERSION:2.0
CALSCALE:GREGORIAN
PRODID:-//Diputació de Barcelona//DibaCMS//EN
BEGIN:VEVENT
UID:3929
DTSTAMP:20260423T145222
DTSTART:20220212T100000
DTEND:20220212T200000
SUMMARY:1r. Saló del Manga
LOCATION:c. Sant Pere, 152 08370 Calella
METHOD:PUBLISH
X-WR-CALNAME:calella@calella.cat
X-WR-TIMEZONE:Europe/Madrid
DESCRIPTION:
URI:https://www.calella.cat/actualitat/agenda/1r-salo-del-manga.html
CLASS:PUBLIC
END:VEVENT
END:VCALENDAR
