BEGIN:VCALENDAR
VERSION:2.0
CALSCALE:GREGORIAN
PRODID:-//Diputació de Barcelona//DibaCMS//EN
BEGIN:VEVENT
UID:3928
DTSTAMP:20260424T020225
DTSTART:20220211T220000
DTEND:20220211T220000
SUMMARY:23è. Cafè Jazz a Calella
LOCATION:
METHOD:PUBLISH
X-WR-CALNAME:calella@calella.cat
X-WR-TIMEZONE:Europe/Madrid
DESCRIPTION:Al Restaurant La Gàbia (pg. Manuel Puigvert).

URI:https://www.calella.cat/actualitat/agenda/3928-23e-cafe-jazz-a-calella.html
CLASS:PUBLIC
END:VEVENT
END:VCALENDAR
