BEGIN:VCALENDAR
VERSION:2.0
CALSCALE:GREGORIAN
PRODID:-//Diputació de Barcelona//DibaCMS//EN
BEGIN:VEVENT
UID:3927
DTSTAMP:20260423T132526
DTSTART:20220211T180000
DTEND:20220211T180000
SUMMARY:Torneig de ping-pong
LOCATION:c. Sant Jaume, 225-229 08370 Calella
METHOD:PUBLISH
X-WR-CALNAME:calella@calella.cat
X-WR-TIMEZONE:Europe/Madrid
DESCRIPTION:Apunta’t amb la teva parella i participa!

URI:https://www.calella.cat/actualitat/agenda/torneig-de-ping-pong.html
CLASS:PUBLIC
END:VEVENT
END:VCALENDAR
