BEGIN:VCALENDAR
VERSION:2.0
CALSCALE:GREGORIAN
PRODID:-//Diputació de Barcelona//DibaCMS//EN
BEGIN:VEVENT
UID:3924
DTSTAMP:20260423T132407
DTSTART:20220210T180000
DTEND:20220210T180000
SUMMARY:Trobada juvenil
LOCATION:c. Sant Jaume, 225-229 08370 Calella
METHOD:PUBLISH
X-WR-CALNAME:calella@calella.cat
X-WR-TIMEZONE:Europe/Madrid
DESCRIPTION:Per opinar sobre quins projectes i actuacions ha de recollir el nou Pla Local de Joventut.

URI:https://www.calella.cat/actualitat/agenda/trobada-juvenil.html
CLASS:PUBLIC
END:VEVENT
END:VCALENDAR
