BEGIN:VCALENDAR
VERSION:2.0
CALSCALE:GREGORIAN
PRODID:-//Diputació de Barcelona//DibaCMS//EN
BEGIN:VEVENT
UID:3922
DTSTAMP:20260423T195045
DTSTART:20220209T180000
DTEND:20220209T180000
SUMMARY:Taller de pizzes
LOCATION:c. Sant Jaume, 225-229 08370 Calella
METHOD:PUBLISH
X-WR-CALNAME:calella@calella.cat
X-WR-TIMEZONE:Europe/Madrid
DESCRIPTION:amb motiu del Dia Internacional de la Pizza.

URI:https://www.calella.cat/actualitat/agenda/taller-de-pizzes.html
CLASS:PUBLIC
END:VEVENT
END:VCALENDAR
