BEGIN:VCALENDAR
VERSION:2.0
CALSCALE:GREGORIAN
PRODID:-//Diputació de Barcelona//DibaCMS//EN
BEGIN:VEVENT
UID:3920
DTSTAMP:20260423T165832
DTSTART:20220216T183000
DTEND:20220216T183000
SUMMARY:Conferència “Bielorússia, passat i present”
LOCATION:c. Sant Jaume, 225-229 08370 Calella
METHOD:PUBLISH
X-WR-CALNAME:calella@calella.cat
X-WR-TIMEZONE:Europe/Madrid
DESCRIPTION:
URI:https://www.calella.cat/actualitat/agenda/conferencia-bielorussia-passat-i-present.html
CLASS:PUBLIC
END:VEVENT
END:VCALENDAR
