BEGIN:VCALENDAR
VERSION:2.0
CALSCALE:GREGORIAN
PRODID:-//Diputació de Barcelona//DibaCMS//EN
BEGIN:VEVENT
UID:3917
DTSTAMP:20260425T043344
DTSTART:20230508T183000
DTEND:20230508T183000
SUMMARY:Club de lectura Llibre obert
LOCATION:Plaça de l'Ajuntament, 31 08370 Calella
METHOD:PUBLISH
X-WR-CALNAME:calella@calella.cat
X-WR-TIMEZONE:Europe/Madrid
DESCRIPTION:Julia d’Ana Maria Moix.

URI:https://www.calella.cat/actualitat/agenda/club-de-lectura-llibre-obert.html
CLASS:PUBLIC
END:VEVENT
END:VCALENDAR
