BEGIN:VCALENDAR
VERSION:2.0
CALSCALE:GREGORIAN
PRODID:-//Diputació de Barcelona//DibaCMS//EN
BEGIN:VEVENT
UID:3913
DTSTAMP:20260423T114918
DTSTART:20220206T183000
DTEND:20220206T183000
SUMMARY:48è. Concurs de Teatre Amateur premi Ciutat de Calella
LOCATION:c. Església, 249-251 08370 Calella
METHOD:PUBLISH
X-WR-CALNAME:calella@calella.cat
X-WR-TIMEZONE:Europe/Madrid
DESCRIPTION:amb l’obra Ella és Ell i Él es Ella, a càrrec de Kpel Teatre (Barcelona).

URI:https://www.calella.cat/actualitat/agenda/48e-concurs-de-teatre-amateur-premi-ciutat-de-calella.html
CLASS:PUBLIC
END:VEVENT
END:VCALENDAR
