BEGIN:VCALENDAR
VERSION:2.0
CALSCALE:GREGORIAN
PRODID:-//Diputació de Barcelona//DibaCMS//EN
BEGIN:VEVENT
UID:3911
DTSTAMP:20260423T123553
DTSTART:20220205T180000
DTEND:20220205T180000
SUMMARY:Cicle Cultural - Teatre Familiar
LOCATION:c. Església, 249-251 08370 Calella
METHOD:PUBLISH
X-WR-CALNAME:calella@calella.cat
X-WR-TIMEZONE:Europe/Madrid
DESCRIPTION:
URI:https://www.calella.cat/actualitat/agenda/cicle-cultural-teatre-familiar.html
CLASS:PUBLIC
END:VEVENT
END:VCALENDAR
