BEGIN:VCALENDAR
VERSION:2.0
CALSCALE:GREGORIAN
PRODID:-//Diputació de Barcelona//DibaCMS//EN
BEGIN:VEVENT
UID:3910
DTSTAMP:20260423T091709
DTSTART:20220205T120000
DTEND:20220205T120000
SUMMARY:Visita comentada de l’artista Rafael Romero a l’exposició “Locus Amoenus. Llocs idíl·lics”
LOCATION:Plaça de l'Ajuntament, 1-4 08370 Calella
METHOD:PUBLISH
X-WR-CALNAME:calella@calella.cat
X-WR-TIMEZONE:Europe/Madrid
DESCRIPTION:
URI:https://www.calella.cat/actualitat/agenda/visita-comentada-de-lartista-rafael-romero-a-lexposicio-locus-amoenus-llocs-idillics.html
CLASS:PUBLIC
END:VEVENT
END:VCALENDAR
