BEGIN:VCALENDAR
VERSION:2.0
CALSCALE:GREGORIAN
PRODID:-//Diputació de Barcelona//DibaCMS//EN
BEGIN:VEVENT
UID:3908
DTSTAMP:20260423T102622
DTSTART:20220204T220000
DTEND:20220204T220000
SUMMARY:23è. Cafè Jazz a Calella
LOCATION:c. Església, 91 08370 Calella
METHOD:PUBLISH
X-WR-CALNAME:calella@calella.cat
X-WR-TIMEZONE:Europe/Madrid
DESCRIPTION:Concert amb Joan Díaz (piano), Álvaro Ocón (trompeta), Rai Ferrer (contrabaix) i David Gimeno (bateria).

URI:https://www.calella.cat/actualitat/agenda/23e-cafe-jazz-a-calella.html
CLASS:PUBLIC
END:VEVENT
END:VCALENDAR
