BEGIN:VCALENDAR
VERSION:2.0
CALSCALE:GREGORIAN
PRODID:-//Diputació de Barcelona//DibaCMS//EN
BEGIN:VEVENT
UID:3907
DTSTAMP:20260423T041156
DTSTART:20220203T180000
DTEND:20220203T180000
SUMMARY:Coneixem els projectes de voluntariat de l’Associació de Voluntaris i Amics de l’Hospital
LOCATION:c. Sant Jaume, 225-229 08370 Calella
METHOD:PUBLISH
X-WR-CALNAME:calella@calella.cat
X-WR-TIMEZONE:Europe/Madrid
DESCRIPTION:
URI:https://www.calella.cat/actualitat/agenda/coneixem-els-projectes-de-voluntariat-de-lassociacio-de-voluntaris-i-amics-de-lhospital.html
CLASS:PUBLIC
END:VEVENT
END:VCALENDAR
