BEGIN:VCALENDAR
VERSION:2.0
CALSCALE:GREGORIAN
PRODID:-//Diputació de Barcelona//DibaCMS//EN
BEGIN:VEVENT
UID:3900
DTSTAMP:20260423T072019
DTSTART:20220201T180000
DTEND:20220201T180000
SUMMARY:Gravació del vídeo concurs “Reimagina’t”
LOCATION:c. Sant Jaume, 225-229 08370 Calella
METHOD:PUBLISH
X-WR-CALNAME:calella@calella.cat
X-WR-TIMEZONE:Europe/Madrid
DESCRIPTION:Amb una mirada positiva cap a les diversitats de gènere i afectives-sexuals

URI:https://www.calella.cat/actualitat/agenda/gravacio-del-video-concurs-reimaginat.html
CLASS:PUBLIC
END:VEVENT
END:VCALENDAR
