BEGIN:VCALENDAR
VERSION:2.0
CALSCALE:GREGORIAN
PRODID:-//Diputació de Barcelona//DibaCMS//EN
BEGIN:VEVENT
UID:3700
DTSTAMP:20260423T041124
DTSTART:20211216T210000
DTEND:20211216T210000
SUMMARY:Cinema Cicle Gaudí amb Chavalas
LOCATION:c. Església, 91 08370 Calella
METHOD:PUBLISH
X-WR-CALNAME:calella@calella.cat
X-WR-TIMEZONE:Europe/Madrid
DESCRIPTION:
URI:https://www.calella.cat/actualitat/agenda/cinema-cicle-gaudi-amb-chavalas.html
CLASS:PUBLIC
END:VEVENT
END:VCALENDAR
