BEGIN:VCALENDAR
VERSION:2.0
CALSCALE:GREGORIAN
PRODID:-//Diputació de Barcelona//DibaCMS//EN
BEGIN:VEVENT
UID:3699
DTSTAMP:20260423T042922
DTSTART:20211216T180000
DTEND:20211216T180000
SUMMARY:Conferència-debat “El futur d’Europa amb una mirada jove: pensem, compartim i decidim”
LOCATION:c. Sant Jaume, 225-229 08370 Calella
METHOD:PUBLISH
X-WR-CALNAME:calella@calella.cat
X-WR-TIMEZONE:Europe/Madrid
DESCRIPTION:
URI:https://www.calella.cat/actualitat/agenda/conferencia-debat-el-futur-deuropa-amb-una-mirada-jove-pensem-compartim-i-decidim.html
CLASS:PUBLIC
END:VEVENT
END:VCALENDAR
