BEGIN:VCALENDAR
VERSION:2.0
CALSCALE:GREGORIAN
PRODID:-//Diputació de Barcelona//DibaCMS//EN
BEGIN:VEVENT
UID:3696
DTSTAMP:20260423T181237
DTSTART:20211220T183000
DTEND:20211220T183000
SUMMARY:Club de lectura
LOCATION:
METHOD:PUBLISH
X-WR-CALNAME:calella@calella.cat
X-WR-TIMEZONE:Europe/Madrid
DESCRIPTION:
URI:https://www.calella.cat/actualitat/agenda/club-de-lectura.html
CLASS:PUBLIC
END:VEVENT
END:VCALENDAR
