BEGIN:VCALENDAR
VERSION:2.0
CALSCALE:GREGORIAN
PRODID:-//Diputació de Barcelona//DibaCMS//EN
BEGIN:VEVENT
UID:3695
DTSTAMP:20260423T123446
DTSTART:20211208T183000
DTEND:20211208T183000
SUMMARY:Mamma mia! El musical de l'ATSOC
LOCATION:c. Església, 91 08370 Calella
METHOD:PUBLISH
X-WR-CALNAME:calella@calella.cat
X-WR-TIMEZONE:Europe/Madrid
DESCRIPTION:
URI:https://www.calella.cat/actualitat/agenda/mamma-mia-el-musical-de-latsoc.html
CLASS:PUBLIC
END:VEVENT
END:VCALENDAR
