BEGIN:VCALENDAR
VERSION:2.0
CALSCALE:GREGORIAN
PRODID:-//Diputació de Barcelona//DibaCMS//EN
BEGIN:VEVENT
UID:3694
DTSTAMP:20260423T025117
DTSTART:20211203T000000
DTEND:20211225T000000
SUMMARY:Inici del sorteig “Aquest Nadal els Tions i les Tiones de Calella estan plens de regals”
LOCATION:
METHOD:PUBLISH
X-WR-CALNAME:calella@calella.cat
X-WR-TIMEZONE:Europe/Madrid
DESCRIPTION:
URI:https://www.calella.cat/actualitat/agenda/inici-del-sorteig-aquest-nadal-els-tions-i-les-tiones-de-calella-estan-plens-de-regals.html
CLASS:PUBLIC
END:VEVENT
END:VCALENDAR
