BEGIN:VCALENDAR
VERSION:2.0
CALSCALE:GREGORIAN
PRODID:-//Diputació de Barcelona//DibaCMS//EN
BEGIN:VEVENT
UID:3691
DTSTAMP:20260421T180749
DTSTART:20210413T000000
DTEND:20210711T000000
SUMMARY:Exposició “Aamelat Souriyat. Jornaleres sirianes, dones i nenes refugiades a la Vall de la Bekaa”
LOCATION:c. Sant Pere, 122-140 08370 Calella
METHOD:PUBLISH
X-WR-CALNAME:calella@calella.cat
X-WR-TIMEZONE:Europe/Madrid
DESCRIPTION:
URI:https://www.calella.cat/actualitat/agenda/exposicio-aamelat-souriyat-jornaleres-sirianes-dones-i-nenes-refugiades-a-la-vall-de-la-bekaa.html
CLASS:PUBLIC
END:VEVENT
END:VCALENDAR
